BEGIN:VCALENDAR
VERSION:2.0
PRODID:calendify.com
BEGIN:VEVENT
UID:calendify-session-09AOL01NO3N
DTSTART:20190601T140000Z
SEQUENCE:0
TRANSP:OPAQUE
DTEND:20190601T160000Z
URL:https://calendify.com/session/09AOL01NO3N
LOCATION:Lounge
SUMMARY:Blickfeldkurier
CLASS:PUBLIC
DESCRIPTION:https://calendify.com/session/09AOL01NO3N
DTSTAMP:20260425T153957Z
CREATED:20200509T115128Z
LAST-MODIFIED:20200509T115128Z
END:VEVENT
END:VCALENDAR