BEGIN:VCALENDAR
VERSION:2.0
PRODID:calendify.com
BEGIN:VEVENT
UID:calendify-session-09AOL05AO3N
DTSTART:20200201T103000Z
SEQUENCE:0
TRANSP:OPAQUE
DTEND:20200201T105500Z
URL:https://calendify.com/session/09AOL05AO3N
LOCATION:UD2.218A
SUMMARY:Building an embedded VoIP network for video intercom systems
CLASS:PUBLIC
DESCRIPTION:https://calendify.com/session/09AOL05AO3N
DTSTAMP:20260423T082451Z
CREATED:20200513T234731Z
LAST-MODIFIED:20210426T093308Z
END:VEVENT
END:VCALENDAR