BEGIN:VCALENDAR
VERSION:2.0
PRODID:calendify.com
BEGIN:VEVENT
UID:calendify-session-09AOL0JDO3N
DTSTART:20190530T160000Z
SEQUENCE:0
TRANSP:OPAQUE
DTEND:20190530T180000Z
URL:https://calendify.com/session/09AOL0JDO3N
LOCATION:Lounge
SUMMARY:Skorpy
CLASS:PUBLIC
DESCRIPTION:https://calendify.com/session/09AOL0JDO3N
DTSTAMP:20260420T183925Z
CREATED:20200509T115056Z
LAST-MODIFIED:20200509T115056Z
END:VEVENT
END:VCALENDAR