BEGIN:VCALENDAR
VERSION:2.0
PRODID:calendify.com
BEGIN:VEVENT
UID:calendify-session-09AOL0RNO3N
DTSTART:20190601T170000Z
SEQUENCE:0
TRANSP:OPAQUE
DTEND:20190601T180000Z
URL:https://calendify.com/session/09AOL0RNO3N
LOCATION:ZKM_Medientheater
SUMMARY:Linux package manager sind zu langsam!
CLASS:PUBLIC
DESCRIPTION:https://calendify.com/session/09AOL0RNO3N
DTSTAMP:20260421T031549Z
CREATED:20200509T115114Z
LAST-MODIFIED:20200509T115114Z
END:VEVENT
END:VCALENDAR