BEGIN:VCALENDAR
VERSION:2.0
PRODID:calendify.com
BEGIN:VEVENT
UID:calendify-session-09AOL0ZQO3N
DTSTART:20180512T161500Z
SEQUENCE:0
TRANSP:OPAQUE
DTEND:20180512T164500Z
URL:https://calendify.com/session/09AOL0ZQO3N
LOCATION:ZKM_Vortragssaal
SUMMARY:U2Fishing: Potential Security Threat Introduced by U2F Key Wrapping
  Mechanism
CLASS:PUBLIC
DESCRIPTION:https://calendify.com/session/09AOL0ZQO3N
DTSTAMP:20260424T082113Z
CREATED:20200513T011828Z
LAST-MODIFIED:20200513T011828Z
END:VEVENT
END:VCALENDAR