BEGIN:VCALENDAR
VERSION:2.0
PRODID:calendify.com
BEGIN:VEVENT
UID:calendify-session-09AOL0aAO3N
DTSTART:20200201T124000Z
SEQUENCE:0
TRANSP:OPAQUE
DTEND:20200201T125500Z
URL:https://calendify.com/session/09AOL0aAO3N
LOCATION:UD2.119
SUMMARY:Percona Backup for MongoDB: Status and Plans
CLASS:PUBLIC
DESCRIPTION:https://calendify.com/session/09AOL0aAO3N
DTSTAMP:20260422T191544Z
CREATED:20200513T234731Z
LAST-MODIFIED:20210426T093308Z
END:VEVENT
END:VCALENDAR