BEGIN:VCALENDAR
VERSION:2.0
PRODID:calendify.com
BEGIN:VEVENT
UID:calendify-session-09AOL0bpO3N
DTSTART:20200201T140000Z
SEQUENCE:0
TRANSP:OPAQUE
DTEND:20200201T144000Z
URL:https://calendify.com/session/09AOL0bpO3N
LOCATION:H.1308 (Rolin)
SUMMARY:Akraino Edge KNI blueprint
CLASS:PUBLIC
DESCRIPTION:https://calendify.com/session/09AOL0bpO3N
DTSTAMP:20260420T203150Z
CREATED:20200513T234730Z
LAST-MODIFIED:20210426T093308Z
END:VEVENT
END:VCALENDAR