BEGIN:VCALENDAR
VERSION:2.0
PRODID:calendify.com
BEGIN:VEVENT
UID:calendify-session-09AOL0kyO3N
DTSTART:20200201T144500Z
SEQUENCE:0
TRANSP:OPAQUE
DTEND:20200201T154500Z
URL:https://calendify.com/session/09AOL0kyO3N
LOCATION:K.3.201
SUMMARY:Benefits of porting Godot Engine to Vulkan
CLASS:PUBLIC
DESCRIPTION:https://calendify.com/session/09AOL0kyO3N
DTSTAMP:20260424T063223Z
CREATED:20200513T234730Z
LAST-MODIFIED:20210426T093308Z
END:VEVENT
END:VCALENDAR