BEGIN:VCALENDAR
VERSION:2.0
PRODID:calendify.com
BEGIN:VEVENT
UID:calendify-session-09AOL0ryO3N
DTSTART:20200201T165500Z
SEQUENCE:0
TRANSP:OPAQUE
DTEND:20200201T171500Z
URL:https://calendify.com/session/09AOL0ryO3N
LOCATION:AW1.121
SUMMARY:AMENDMENT Raphtory: Streaming analysis of distributed temporal grap
 hs
CLASS:PUBLIC
DESCRIPTION:https://calendify.com/session/09AOL0ryO3N
DTSTAMP:20260423T173348Z
CREATED:20200513T234730Z
LAST-MODIFIED:20210426T093308Z
END:VEVENT
END:VCALENDAR