BEGIN:VCALENDAR
VERSION:2.0
PRODID:calendify.com
BEGIN:VEVENT
UID:calendify-session-09AOL0wXO3N
DTSTART:20180510T153000Z
SEQUENCE:0
TRANSP:OPAQUE
DTEND:20180510T163000Z
URL:https://calendify.com/session/09AOL0wXO3N
LOCATION:HfG_Studio
SUMMARY:RFID/NFC-Grundlagen - A Pentesters Perspective
CLASS:PUBLIC
DESCRIPTION:https://calendify.com/session/09AOL0wXO3N
DTSTAMP:20260423T174006Z
CREATED:20200513T011827Z
LAST-MODIFIED:20200513T011827Z
END:VEVENT
END:VCALENDAR