BEGIN:VCALENDAR
VERSION:2.0
PRODID:calendify.com
BEGIN:VEVENT
UID:calendify-session-09AOL2PQg3N
DTSTART:20241227T163500Z
SEQUENCE:0
TRANSP:OPAQUE
DTEND:20241227T171500Z
URL:https://calendify.com/session/09AOL2PQg3N
LOCATION:Stage YELL
SUMMARY:Beyond Cryptopartys - wie Aktivistis und Nerds voneinander lernen k
 önnen
CLASS:PUBLIC
DESCRIPTION:https://calendify.com/session/09AOL2PQg3N
DTSTAMP:20260423T140713Z
CREATED:20241227T141458Z
LAST-MODIFIED:20250101T225002Z
END:VEVENT
END:VCALENDAR