BEGIN:VCALENDAR
VERSION:2.0
PRODID:calendify.com
BEGIN:VEVENT
UID:calendify-session-09AOL32p43N
DTSTART:20210207T132000Z
SEQUENCE:0
TRANSP:OPAQUE
DTEND:20210207T133500Z
URL:https://calendify.com/session/09AOL32p43N
LOCATION:D.composition
SUMMARY:ScanCode projects update
CLASS:PUBLIC
DESCRIPTION:https://calendify.com/session/09AOL32p43N
DTSTAMP:20260419T204801Z
CREATED:20210111T170319Z
LAST-MODIFIED:20210208T224803Z
END:VEVENT
END:VCALENDAR