BEGIN:VCALENDAR
VERSION:2.0
PRODID:calendify.com
BEGIN:VEVENT
UID:calendify-session-09AOL33X43N
DTSTART:20210206T093000Z
SEQUENCE:0
TRANSP:OPAQUE
DTEND:20210206T095500Z
URL:https://calendify.com/session/09AOL33X43N
LOCATION:D.hardware.trusted
SUMMARY:Veracruz: privacy-preserving collaborative compute
CLASS:PUBLIC
DESCRIPTION:https://calendify.com/session/09AOL33X43N
DTSTAMP:20260419T211250Z
CREATED:20210111T170318Z
LAST-MODIFIED:20210208T224802Z
END:VEVENT
END:VCALENDAR