BEGIN:VCALENDAR
VERSION:2.0
PRODID:calendify.com
BEGIN:VEVENT
UID:calendify-session-09AOL3N143N
DTSTART:20201230T004600Z
SEQUENCE:0
TRANSP:OPAQUE
DTEND:20201230T025400Z
URL:https://calendify.com/session/09AOL3N143N
LOCATION:classics
SUMMARY:28c3 Der Staatstrojaner
CLASS:PUBLIC
DESCRIPTION:https://calendify.com/session/09AOL3N143N
DTSTAMP:20260422T153011Z
CREATED:20201230T143303Z
LAST-MODIFIED:20210114T154804Z
END:VEVENT
END:VCALENDAR