BEGIN:VCALENDAR
VERSION:2.0
PRODID:calendify.com
BEGIN:VEVENT
UID:calendify-session-09AOL3Ry43N
DTSTART:20210207T150000Z
SEQUENCE:0
TRANSP:OPAQUE
DTEND:20210207T152000Z
URL:https://calendify.com/session/09AOL3Ry43N
LOCATION:D.design
SUMMARY:The Open Source Designer's ToolBox
CLASS:PUBLIC
DESCRIPTION:https://calendify.com/session/09AOL3Ry43N
DTSTAMP:20260419T195511Z
CREATED:20210111T170320Z
LAST-MODIFIED:20210208T224804Z
END:VEVENT
END:VCALENDAR