BEGIN:VCALENDAR
VERSION:2.0
PRODID:calendify.com
BEGIN:VEVENT
UID:calendify-session-09AOL3mo43N
DTSTART:20210207T130000Z
SEQUENCE:0
TRANSP:OPAQUE
DTEND:20210207T133000Z
URL:https://calendify.com/session/09AOL3mo43N
LOCATION:D.web.performance
SUMMARY:What if \"browser issues\" were our issue?
CLASS:PUBLIC
DESCRIPTION:https://calendify.com/session/09AOL3mo43N
DTSTAMP:20260423T095627Z
CREATED:20210111T170320Z
LAST-MODIFIED:20210208T224804Z
END:VEVENT
END:VCALENDAR