BEGIN:VCALENDAR
VERSION:2.0
PRODID:calendify.com
BEGIN:VEVENT
UID:calendify-session-09AOL3xr43N
DTSTART:20210207T083000Z
SEQUENCE:0
TRANSP:OPAQUE
DTEND:20210207T091500Z
URL:https://calendify.com/session/09AOL3xr43N
LOCATION:S.checkmk
SUMMARY:Checkmk Technical Demo
CLASS:PUBLIC
DESCRIPTION:https://calendify.com/session/09AOL3xr43N
DTSTAMP:20260423T172530Z
CREATED:20210205T134804Z
LAST-MODIFIED:20210208T224804Z
END:VEVENT
END:VCALENDAR