BEGIN:VCALENDAR
VERSION:2.0
PRODID:calendify.com
BEGIN:VEVENT
UID:calendify-session-09AOL3yr43N
DTSTART:20210207T160000Z
SEQUENCE:0
TRANSP:OPAQUE
DTEND:20210207T170000Z
URL:https://calendify.com/session/09AOL3yr43N
LOCATION:S.illumos
SUMMARY:Compile IPS packages with pkgbuild / SFE
CLASS:PUBLIC
DESCRIPTION:https://calendify.com/session/09AOL3yr43N
DTSTAMP:20260423T162028Z
CREATED:20210207T151805Z
LAST-MODIFIED:20210208T224804Z
END:VEVENT
END:VCALENDAR