BEGIN:VCALENDAR
VERSION:2.0
PRODID:calendify.com
BEGIN:VEVENT
UID:calendify-session-09AOL6Jrg3N
DTSTART:20210319T133000Z
SEQUENCE:0
TRANSP:OPAQUE
DTEND:20210319T143000Z
URL:https://calendify.com/session/09AOL6Jrg3N
LOCATION:Zoom Room 4A
SUMMARY:Our voice in AI regulation debate - is anyone listening?
CLASS:PUBLIC
DESCRIPTION:https://calendify.com/session/09AOL6Jrg3N
DTSTAMP:20260420T233350Z
CREATED:20210426T094931Z
LAST-MODIFIED:20210426T094931Z
END:VEVENT
END:VCALENDAR