BEGIN:VCALENDAR
VERSION:2.0
PRODID:calendify.com
BEGIN:VEVENT
UID:calendify-session-09AOL6lDg3N
DTSTART:20211229T020400Z
SEQUENCE:0
TRANSP:OPAQUE
DTEND:20211229T031800Z
URL:https://calendify.com/session/09AOL6lDg3N
LOCATION:rC3 Lounge
SUMMARY:Grifkey
CLASS:PUBLIC
DESCRIPTION:https://calendify.com/session/09AOL6lDg3N
DTSTAMP:20260422T123815Z
CREATED:20211226T205000Z
LAST-MODIFIED:20211230T225002Z
END:VEVENT
END:VCALENDAR