BEGIN:VCALENDAR
VERSION:2.0
PRODID:calendify.com
BEGIN:VEVENT
UID:calendify-session-09AOL6rZg3N
DTSTART:20211230T123000Z
SEQUENCE:0
TRANSP:OPAQUE
DTEND:20211230T131500Z
URL:https://calendify.com/session/09AOL6rZg3N
LOCATION:Chaosstudio Hamburg
SUMMARY:Kartierung von Überwachungskameras als Gegenwehr
CLASS:PUBLIC
DESCRIPTION:https://calendify.com/session/09AOL6rZg3N
DTSTAMP:20260420T112028Z
CREATED:20211220T014018Z
LAST-MODIFIED:20211230T225002Z
END:VEVENT
END:VCALENDAR