BEGIN:VCALENDAR
VERSION:2.0
PRODID:calendify.com
BEGIN:VEVENT
UID:calendify-session-09AOLA3yM3N
DTSTART:20221230T080000Z
SEQUENCE:0
TRANSP:OPAQUE
DTEND:20221230T094500Z
URL:https://calendify.com/session/09AOLA3yM3N
LOCATION:Fireshonks-Stream
SUMMARY:Videokonferenzen: 🙈 🙉 🙊 - selbstverständlich barrierefrei
 ! Warum Checklisten nicht ausreichen\, wir aber trotzdem eine präsentiere
 n
CLASS:PUBLIC
DESCRIPTION:https://calendify.com/session/09AOLA3yM3N
DTSTAMP:20260422T124229Z
CREATED:20221219T100103Z
LAST-MODIFIED:20221230T225003Z
END:VEVENT
END:VCALENDAR