BEGIN:VCALENDAR
VERSION:2.0
PRODID:calendify.com
BEGIN:VEVENT
UID:calendify-session-09AOLAB1M3N
DTSTART:20230407T163000Z
SEQUENCE:0
TRANSP:OPAQUE
DTEND:20230407T170000Z
URL:https://calendify.com/session/09AOLAB1M3N
LOCATION:P1 Workshop Mary G. Ross
SUMMARY:Web Security Map\, forcing governments to become secure
CLASS:PUBLIC
DESCRIPTION:https://calendify.com/session/09AOLAB1M3N
DTSTAMP:20260422T152941Z
CREATED:20230402T221758Z
LAST-MODIFIED:20230409T215003Z
END:VEVENT
END:VCALENDAR