BEGIN:VCALENDAR
VERSION:2.0
PRODID:calendify.com
BEGIN:VEVENT
UID:calendify-session-09AOLAbXM3N
DTSTART:20230609T100000Z
SEQUENCE:0
TRANSP:OPAQUE
DTEND:20230609T110000Z
URL:https://calendify.com/session/09AOLAbXM3N
LOCATION:ZKM Seminarraum
SUMMARY:r2wars - battle bots in shared memory
CLASS:PUBLIC
DESCRIPTION:https://calendify.com/session/09AOLAbXM3N
DTSTAMP:20260421T040349Z
CREATED:20230527T091821Z
LAST-MODIFIED:20230611T215002Z
END:VEVENT
END:VCALENDAR