BEGIN:VCALENDAR
VERSION:2.0
PRODID:calendify.com
BEGIN:VEVENT
UID:calendify-session-09AOLAkQM3N
DTSTART:20230608T140000Z
SEQUENCE:0
TRANSP:OPAQUE
DTEND:20230608T143000Z
URL:https://calendify.com/session/09AOLAkQM3N
LOCATION:Lounge DJ & Artists
SUMMARY:Michel Vaillant
CLASS:PUBLIC
DESCRIPTION:https://calendify.com/session/09AOLAkQM3N
DTSTAMP:20260422T194510Z
CREATED:20230604T134035Z
LAST-MODIFIED:20230611T215002Z
END:VEVENT
END:VCALENDAR