BEGIN:VCALENDAR
VERSION:2.0
PRODID:calendify.com
BEGIN:VEVENT
UID:calendify-session-09AOLJ0Xg3N
DTSTART:20230720T160000Z
SEQUENCE:0
TRANSP:OPAQUE
DTEND:20230720T170000Z
URL:https://calendify.com/session/09AOLJ0Xg3N
LOCATION:Vortragsraum
SUMMARY:Digitalisierung im Gesundheitswesen - Neues aus der Telematikinfras
 truktur: der TI-Messenger
CLASS:PUBLIC
DESCRIPTION:https://calendify.com/session/09AOLJ0Xg3N
DTSTAMP:20260424T082123Z
CREATED:20230806T113705Z
LAST-MODIFIED:20230806T113705Z
END:VEVENT
END:VCALENDAR