BEGIN:VCALENDAR
VERSION:2.0
PRODID:calendify.com
BEGIN:VEVENT
UID:calendify-session-09AOLJ9Qg3N
DTSTART:20240330T153000Z
SEQUENCE:0
TRANSP:OPAQUE
DTEND:20240330T183000Z
URL:https://calendify.com/session/09AOLJ9Qg3N
LOCATION:Hardware Hegging Area - K005
SUMMARY:NoiseToys - not just for boys
CLASS:PUBLIC
DESCRIPTION:https://calendify.com/session/09AOLJ9Qg3N
DTSTAMP:20260424T041525Z
CREATED:20240328T125150Z
LAST-MODIFIED:20240401T142841Z
END:VEVENT
END:VCALENDAR