BEGIN:VCALENDAR
VERSION:2.0
PRODID:calendify.com
BEGIN:VEVENT
UID:calendify-session-09AOLJDQg3N
DTSTART:20240401T120000Z
SEQUENCE:0
TRANSP:OPAQUE
DTEND:20240401T130000Z
URL:https://calendify.com/session/09AOLJDQg3N
LOCATION:Walhacka - D002
SUMMARY:Closing Ceremony
CLASS:PUBLIC
DESCRIPTION:https://calendify.com/session/09AOLJDQg3N
DTSTAMP:20260423T173403Z
CREATED:20240328T125152Z
LAST-MODIFIED:20240401T142841Z
END:VEVENT
END:VCALENDAR