BEGIN:VCALENDAR
VERSION:2.0
PRODID:calendify.com
BEGIN:VEVENT
UID:calendify-session-09AOLJZDg3N
DTSTART:20231227T200000Z
SEQUENCE:0
TRANSP:OPAQUE
DTEND:20231227T213000Z
URL:https://calendify.com/session/09AOLJZDg3N
LOCATION:Sendezentrum Podcast Table (X12)
SUMMARY:Click! Clack! Hack!
CLASS:PUBLIC
DESCRIPTION:https://calendify.com/session/09AOLJZDg3N
DTSTAMP:20260422T095658Z
CREATED:20231224T230004Z
LAST-MODIFIED:20240401T142932Z
END:VEVENT
END:VCALENDAR