BEGIN:VCALENDAR
VERSION:2.0
PRODID:calendify.com
BEGIN:VEVENT
UID:calendify-session-09AOLJjyg3N
DTSTART:20240531T164500Z
SEQUENCE:0
TRANSP:OPAQUE
DTEND:20240531T174500Z
URL:https://calendify.com/session/09AOLJjyg3N
LOCATION:ZKM Vortragssaal
SUMMARY:Life of a Key
CLASS:PUBLIC
DESCRIPTION:https://calendify.com/session/09AOLJjyg3N
DTSTAMP:20260420T013704Z
CREATED:20240531T122740Z
LAST-MODIFIED:20240602T132303Z
END:VEVENT
END:VCALENDAR