BEGIN:VCALENDAR
VERSION:2.0
PRODID:calendify.com
BEGIN:VEVENT
UID:calendify-session-09AOLJlrg3N
DTSTART:20231229T130000Z
SEQUENCE:0
TRANSP:OPAQUE
DTEND:20231229T133000Z
URL:https://calendify.com/session/09AOLJlrg3N
LOCATION:Saal E
SUMMARY:demonstrations.org - Liberate Data and Activate People
CLASS:PUBLIC
DESCRIPTION:https://calendify.com/session/09AOLJlrg3N
DTSTAMP:20260425T140125Z
CREATED:20231227T114002Z
LAST-MODIFIED:20240401T142932Z
END:VEVENT
END:VCALENDAR