BEGIN:VCALENDAR
VERSION:2.0
PRODID:calendify.com
BEGIN:VEVENT
UID:calendify-session-09AOLJpAg3N
DTSTART:20231230T134500Z
SEQUENCE:0
TRANSP:OPAQUE
DTEND:20231230T144500Z
URL:https://calendify.com/session/09AOLJpAg3N
LOCATION:Saal 1
SUMMARY:The Ultimate SPC700 Talk
CLASS:PUBLIC
DESCRIPTION:https://calendify.com/session/09AOLJpAg3N
DTSTAMP:20260423T003608Z
CREATED:20231215T204822Z
LAST-MODIFIED:20240401T142934Z
END:VEVENT
END:VCALENDAR