BEGIN:VCALENDAR
VERSION:2.0
PRODID:calendify.com
BEGIN:VEVENT
UID:calendify-session-09AOLJr1g3N
DTSTART:20231230T160000Z
SEQUENCE:0
TRANSP:OPAQUE
DTEND:20231230T165000Z
URL:https://calendify.com/session/09AOLJr1g3N
LOCATION:Saal D
SUMMARY:Hackbases (coliving hacklabs) info & meeting
CLASS:PUBLIC
DESCRIPTION:https://calendify.com/session/09AOLJr1g3N
DTSTAMP:20260423T015528Z
CREATED:20231226T151003Z
LAST-MODIFIED:20240401T142934Z
END:VEVENT
END:VCALENDAR