BEGIN:VCALENDAR
VERSION:2.0
PRODID:calendify.com
BEGIN:VEVENT
UID:calendify-session-09AOLK8Q43N
DTSTART:20191227T211000Z
SEQUENCE:0
TRANSP:OPAQUE
DTEND:20191227T221000Z
URL:https://calendify.com/session/09AOLK8Q43N
LOCATION:Dijkstra
SUMMARY:Warum die Card10 kein Medizinprodukt ist
CLASS:PUBLIC
DESCRIPTION:https://calendify.com/session/09AOLK8Q43N
DTSTAMP:20260423T173449Z
CREATED:20200429T014038Z
LAST-MODIFIED:20200429T014038Z
END:VEVENT
END:VCALENDAR