BEGIN:VCALENDAR
VERSION:2.0
PRODID:calendify.com
BEGIN:VEVENT
UID:calendify-session-09AOLKoQ43N
DTSTART:20191228T171000Z
SEQUENCE:0
TRANSP:OPAQUE
DTEND:20191228T175000Z
URL:https://calendify.com/session/09AOLKoQ43N
LOCATION:Dijkstra
SUMMARY:Offene Sensordaten für Jedermann - Ein Citizen Science Projekt bas
 ierend auf Open Source und Open Hardware
CLASS:PUBLIC
DESCRIPTION:https://calendify.com/session/09AOLKoQ43N
DTSTAMP:20260423T130810Z
CREATED:20200429T014057Z
LAST-MODIFIED:20200429T014057Z
END:VEVENT
END:VCALENDAR