BEGIN:VCALENDAR
VERSION:2.0
PRODID:calendify.com
BEGIN:VEVENT
UID:calendify-session-09AOLQ2AM3N
DTSTART:20171228T103000Z
SEQUENCE:0
TRANSP:OPAQUE
DTEND:20171228T110000Z
URL:https://calendify.com/session/09AOLQ2AM3N
LOCATION:Saal Dijkstra
SUMMARY:Visceral Systems
CLASS:PUBLIC
DESCRIPTION:https://calendify.com/session/09AOLQ2AM3N
DTSTAMP:20260424T063212Z
CREATED:20200625T113327Z
LAST-MODIFIED:20200625T113327Z
END:VEVENT
END:VCALENDAR