BEGIN:VCALENDAR
VERSION:2.0
PRODID:calendify.com
BEGIN:VEVENT
UID:calendify-session-09AOLQqrM3N
DTSTART:20180331T134500Z
SEQUENCE:0
TRANSP:OPAQUE
DTEND:20180331T144500Z
URL:https://calendify.com/session/09AOLQqrM3N
LOCATION:Heisenberg 2
SUMMARY:Wenn der Dorfpolizist sturmklingelt
CLASS:PUBLIC
DESCRIPTION:https://calendify.com/session/09AOLQqrM3N
DTSTAMP:20260422T210519Z
CREATED:20200520T231946Z
LAST-MODIFIED:20200520T231946Z
END:VEVENT
END:VCALENDAR