BEGIN:VCALENDAR
VERSION:2.0
PRODID:calendify.com
BEGIN:VEVENT
UID:calendify-session-09AOLR2Ng3N
DTSTART:20241230T093000Z
SEQUENCE:0
TRANSP:OPAQUE
DTEND:20241230T113000Z
URL:https://calendify.com/session/09AOLR2Ng3N
LOCATION:Hardware Hacking Area -- Upper
SUMMARY:Intro to Meshtastic Workshop (Day 4)
CLASS:PUBLIC
DESCRIPTION:https://calendify.com/session/09AOLR2Ng3N
DTSTAMP:20260423T094551Z
CREATED:20241227T141515Z
LAST-MODIFIED:20250101T225004Z
END:VEVENT
END:VCALENDAR