BEGIN:VCALENDAR
VERSION:2.0
PRODID:calendify.com
BEGIN:VEVENT
UID:calendify-session-09AOLR3Zg3N
DTSTART:20241229T200000Z
SEQUENCE:0
TRANSP:OPAQUE
DTEND:20241229T210000Z
URL:https://calendify.com/session/09AOLR3Zg3N
LOCATION:Chaos Computer Music Club
SUMMARY:SIMON JAVA
CLASS:PUBLIC
DESCRIPTION:https://calendify.com/session/09AOLR3Zg3N
DTSTAMP:20260419T144131Z
CREATED:20241227T141512Z
LAST-MODIFIED:20250101T225003Z
END:VEVENT
END:VCALENDAR