BEGIN:VCALENDAR
VERSION:2.0
PRODID:calendify.com
BEGIN:VEVENT
UID:calendify-session-09AOLReDg3N
DTSTART:20241229T100000Z
SEQUENCE:0
TRANSP:OPAQUE
DTEND:20241229T110000Z
URL:https://calendify.com/session/09AOLReDg3N
LOCATION:Kidspace - Affenfelsen
SUMMARY:Ada und Zangemann
CLASS:PUBLIC
DESCRIPTION:https://calendify.com/session/09AOLReDg3N
DTSTAMP:20260423T160946Z
CREATED:20241227T141514Z
LAST-MODIFIED:20250101T225003Z
END:VEVENT
END:VCALENDAR