BEGIN:VCALENDAR
VERSION:2.0
PRODID:calendify.com
BEGIN:VEVENT
UID:calendify-session-09AOLe11M3N
DTSTART:20151228T103000Z
SEQUENCE:0
TRANSP:OPAQUE
DTEND:20151228T113000Z
URL:https://calendify.com/session/09AOLe11M3N
LOCATION:Hall G
SUMMARY:Household\, Totalitarianism and Cyberspace
CLASS:PUBLIC
DESCRIPTION:https://calendify.com/session/09AOLe11M3N
DTSTAMP:20260423T160149Z
CREATED:20220415T142917Z
LAST-MODIFIED:20220415T142917Z
END:VEVENT
END:VCALENDAR