BEGIN:VCALENDAR
VERSION:2.0
PRODID:calendify.com
BEGIN:VEVENT
UID:calendify-session-09AOLe3ZM3N
DTSTART:20170525T170000Z
SEQUENCE:0
TRANSP:OPAQUE
DTEND:20170525T180000Z
URL:https://calendify.com/session/09AOLe3ZM3N
LOCATION:Studio
SUMMARY:QR-Codes
CLASS:PUBLIC
DESCRIPTION:https://calendify.com/session/09AOLe3ZM3N
DTSTAMP:20260421T134436Z
CREATED:20220415T133515Z
LAST-MODIFIED:20220415T133515Z
END:VEVENT
END:VCALENDAR