BEGIN:VCALENDAR
VERSION:2.0
PRODID:calendify.com
BEGIN:VEVENT
UID:calendify-session-09AOLeDDM3N
DTSTART:20220611T153000Z
SEQUENCE:0
TRANSP:OPAQUE
DTEND:20220611T183000Z
URL:https://calendify.com/session/09AOLeDDM3N
LOCATION:.txt Workshop 1
SUMMARY:Climate Storytelling Lab
CLASS:PUBLIC
DESCRIPTION:https://calendify.com/session/09AOLeDDM3N
DTSTAMP:20260424T035820Z
CREATED:20220526T162949Z
LAST-MODIFIED:20220613T235205Z
END:VEVENT
END:VCALENDAR