BEGIN:VCALENDAR
VERSION:2.0
PRODID:calendify.com
BEGIN:VEVENT
UID:calendify-session-09AOLeP1M3N
DTSTART:20220725T113000Z
SEQUENCE:0
TRANSP:OPAQUE
DTEND:20220725T143000Z
URL:https://calendify.com/session/09AOLeP1M3N
LOCATION:Gear ⚙️
SUMMARY:Coderdojo Robotics @ MCH2022
CLASS:PUBLIC
DESCRIPTION:https://calendify.com/session/09AOLeP1M3N
DTSTAMP:20260424T013936Z
CREATED:20220620T212434Z
LAST-MODIFIED:20220726T182703Z
END:VEVENT
END:VCALENDAR