BEGIN:VCALENDAR
VERSION:2.0
PRODID:calendify.com
BEGIN:VEVENT
UID:calendify-session-0WXOB1d84Pk
DTSTART:20190921T114500Z
SEQUENCE:0
TRANSP:OPAQUE
DTEND:20190921T121500Z
URL:https://calendify.com/session/0WXOB1d84Pk
LOCATION:Großer Saal
SUMMARY:Who needs money? – Cash for FOSS
CLASS:PUBLIC
DESCRIPTION:https://calendify.com/session/0WXOB1d84Pk
DTSTAMP:20260423T230601Z
CREATED:20200610T174346Z
LAST-MODIFIED:20200610T174346Z
END:VEVENT
END:VCALENDAR