BEGIN:VCALENDAR
VERSION:2.0
PRODID:calendify.com
BEGIN:VEVENT
UID:calendify-session-0WXOB3b8MPk
DTSTART:20230609T140000Z
SEQUENCE:0
TRANSP:OPAQUE
DTEND:20230609T150000Z
URL:https://calendify.com/session/0WXOB3b8MPk
LOCATION:ZKM Seminarraum
SUMMARY:(Neo)Vim jenseits von q! 🙃
CLASS:PUBLIC
DESCRIPTION:https://calendify.com/session/0WXOB3b8MPk
DTSTAMP:20260423T035910Z
CREATED:20230527T091821Z
LAST-MODIFIED:20230611T215002Z
END:VEVENT
END:VCALENDAR