BEGIN:VCALENDAR
VERSION:2.0
PRODID:calendify.com
BEGIN:VEVENT
UID:calendify-session-0WXOBA0v4Pk
DTSTART:20220609T114500Z
SEQUENCE:0
TRANSP:OPAQUE
DTEND:20220609T124500Z
URL:https://calendify.com/session/0WXOBA0v4Pk
LOCATION:Get a Job-Area
SUMMARY:Um den heißen Brei? Gehaltsverhandlungen auf Augenhöhe führen wi
 e die Profis.
CLASS:PUBLIC
DESCRIPTION:https://calendify.com/session/0WXOBA0v4Pk
DTSTAMP:20260423T095736Z
CREATED:20220526T162948Z
LAST-MODIFIED:20220613T235204Z
END:VEVENT
END:VCALENDAR