BEGIN:VCALENDAR
VERSION:2.0
PRODID:calendify.com
BEGIN:VEVENT
UID:calendify-session-0WXOBA8q4Pk
DTSTART:20220724T170000Z
SEQUENCE:0
TRANSP:OPAQUE
DTEND:20220724T200000Z
URL:https://calendify.com/session/0WXOBA8q4Pk
LOCATION:Gear ⚙️
SUMMARY:TLA+ in Action
CLASS:PUBLIC
DESCRIPTION:https://calendify.com/session/0WXOBA8q4Pk
DTSTAMP:20260424T013941Z
CREATED:20220620T212435Z
LAST-MODIFIED:20220726T182703Z
END:VEVENT
END:VCALENDAR