BEGIN:VCALENDAR
VERSION:2.0
PRODID:calendify.com
BEGIN:VEVENT
UID:calendify-session-0WXOBA9e4Pk
DTSTART:20151227T204500Z
SEQUENCE:0
TRANSP:OPAQUE
DTEND:20151227T214500Z
URL:https://calendify.com/session/0WXOBA9e4Pk
LOCATION:Hall 1
SUMMARY:When hardware must „just work“
CLASS:PUBLIC
DESCRIPTION:https://calendify.com/session/0WXOBA9e4Pk
DTSTAMP:20260423T173409Z
CREATED:20220415T142917Z
LAST-MODIFIED:20220415T142917Z
END:VEVENT
END:VCALENDAR