BEGIN:VCALENDAR
VERSION:2.0
PRODID:calendify.com
BEGIN:VEVENT
UID:calendify-session-0WXOBAQv4Pk
DTSTART:20220609T133000Z
SEQUENCE:0
TRANSP:OPAQUE
DTEND:20220609T140000Z
URL:https://calendify.com/session/0WXOBAQv4Pk
LOCATION:Lightning Box 1
SUMMARY:Das Onlinezugangsgesetz (OZG) – vergebene Mühe oder treibende Kr
 aft der digitalen Transformation?
CLASS:PUBLIC
DESCRIPTION:https://calendify.com/session/0WXOBAQv4Pk
DTSTAMP:20260419T145352Z
CREATED:20220526T162947Z
LAST-MODIFIED:20220613T235204Z
END:VEVENT
END:VCALENDAR